BEGIN:VCALENDAR
VERSION:2.0
PRODID:-//Brandenburgischer Chorverband e.V. - ECPv6.15.20//NONSGML v1.0//EN
CALSCALE:GREGORIAN
METHOD:PUBLISH
X-WR-CALNAME:Brandenburgischer Chorverband e.V.
X-ORIGINAL-URL:https://chorverband-brb.de
X-WR-CALDESC:Veranstaltungen für Brandenburgischer Chorverband e.V.
REFRESH-INTERVAL;VALUE=DURATION:PT1H
X-Robots-Tag:noindex
X-PUBLISHED-TTL:PT1H
BEGIN:VTIMEZONE
TZID:Europe/Berlin
BEGIN:DAYLIGHT
TZOFFSETFROM:+0100
TZOFFSETTO:+0200
TZNAME:CEST
DTSTART:20230326T010000
END:DAYLIGHT
BEGIN:STANDARD
TZOFFSETFROM:+0200
TZOFFSETTO:+0100
TZNAME:CET
DTSTART:20231029T010000
END:STANDARD
BEGIN:DAYLIGHT
TZOFFSETFROM:+0100
TZOFFSETTO:+0200
TZNAME:CEST
DTSTART:20240331T010000
END:DAYLIGHT
BEGIN:STANDARD
TZOFFSETFROM:+0200
TZOFFSETTO:+0100
TZNAME:CET
DTSTART:20241027T010000
END:STANDARD
BEGIN:DAYLIGHT
TZOFFSETFROM:+0100
TZOFFSETTO:+0200
TZNAME:CEST
DTSTART:20250330T010000
END:DAYLIGHT
BEGIN:STANDARD
TZOFFSETFROM:+0200
TZOFFSETTO:+0100
TZNAME:CET
DTSTART:20251026T010000
END:STANDARD
END:VTIMEZONE
BEGIN:VEVENT
DTSTART;TZID=Europe/Berlin:20241005T143000
DTEND;TZID=Europe/Berlin:20241005T170000
DTSTAMP:20260424T162952
CREATED:20240723T105909Z
LAST-MODIFIED:20240723T110122Z
UID:10000264-1728138600-1728147600@chorverband-brb.de
SUMMARY:29. Traditionelles Herbstliedersingen im Drandorfhof Schlieben
DESCRIPTION:Zu dieser Veranstaltung möchte der Männergesangverein 1836 Schlieben e.V Ihren Chor recht herzlich als Mitwirkende einladen.Sollten sie sich zur Teilnahme an unserer Veranstaltung entschließen\, benötigen wir bis zum01.09.2024 ihre positive Rückmeldung\, um den organisatorischen und zeitlichen Ablaufplanerstellen zu können. Die Meldung ihres Repertoires (GEMA-konform) können Sieanschließend bis zur Veranstaltung mitteilen.Wir bitten außerdem um Angabe der Anzahl der Teilnehmer und Gäste\, um dieRahmenbedingungen der Veranstaltung planen zu können. \n\n\n\nWir freuen uns auf eine schöne Veranstaltung mit Ihnen  \n\n\n\nMännergesangverein 1836 Schlieben e.V.
URL:https://chorverband-brb.de/event/29-traditionelles-herbstliedersingen-im-drandorfhof-schlieben/
LOCATION:Drahndorfhof\, Ritterstr. 8\, Schlieben\, Deutschland
CATEGORIES:Mitgliedschor
END:VEVENT
BEGIN:VEVENT
DTSTART;TZID=Europe/Berlin:20241006T200000
DTEND;TZID=Europe/Berlin:20241006T200000
DTSTAMP:20260424T162952
CREATED:20241001T164046Z
LAST-MODIFIED:20241001T165652Z
UID:10000277-1728244800-1728244800@chorverband-brb.de
SUMMARY:X Fenster: Chöre
DESCRIPTION:Offsite by Wehrmuehle präsentiert X FENSTER von Heiner Mühlenbrock.An zwei Abenden im Oktober werden die Fenster im Innenhof der Friedrichstraße 112b zum Schauplatz von szenischen Konzerten über mehrere Etagen hinweg. \n\n\n\nFür die Friedrichstraße 112b hat der Chorleiter und Dirigent Nils Jensen eine Auswahl von drei Chören zusammengestellt und ein innovatives Konzept für das Konzert im Hinterhof entwickelt. Die drei Kammerchöre – Canzoneo Berlin\, Kammerchor des Chorwerk Potsdam und das Junge Consortium Berlin – treten sowohl als einzelne Chöre auf\, als auch als Stimmenensemble von etwa 50 Sänger:innen. Alle Sänger:innen stehen dabei in den Fenstern des Innenhofs\, sodass ein Surround-Effekt entsteht\, der bekannte Chormusik in neuem Licht erscheinen lässt. Die Chöre haben einen Ausschnitt aus ihren aktuellen Konzertprogrammen vorbereitet und singen gemeinsam Chorklassiker wie das „Abendlied“ von Rheinberger\, aber auch moderne Werke mit improvisatorischem Anteil und experimentellem Charakter. Durch die Inszenierung im Hof entsteht ein außergewöhnliches audiovisuelles Raumerlebnis\, das dem besonderen Ort Rechnung trägt. \n\n\n\nMehr Informationen finden Sie in der Pressemitteilung
URL:https://chorverband-brb.de/event/x-fenster-choere/
LOCATION:„Offsite“\, Friedrichstr. 112b\, Berlin\, 10117\, Germany
ATTACH;FMTTYPE=image/png:https://chorverband-brb.de/wp-content/uploads/2024/10/A9tvg5tw_1o9wkan_ndg.png
GEO:52.5256475;13.3877177
X-APPLE-STRUCTURED-LOCATION;VALUE=URI;X-ADDRESS=„Offsite“ Friedrichstr. 112b Berlin 10117 Germany;X-APPLE-RADIUS=500;X-TITLE=Friedrichstr. 112b:geo:13.3877177,52.5256475
END:VEVENT
BEGIN:VEVENT
DTSTART;TZID=Europe/Berlin:20241012T090000
DTEND;TZID=Europe/Berlin:20241012T150000
DTSTAMP:20260424T162952
CREATED:20240911T073627Z
LAST-MODIFIED:20240912T092240Z
UID:10000273-1728723600-1728745200@chorverband-brb.de
SUMMARY:15. Barnimer Chorfest
DESCRIPTION:Zum 15. Barnimer Sängertag bringen junge\, und erfahrene Sängerinnen und Sänger ihre schönsten Lieder zu Gehör. Dabei ist zu erleben\, mit welcher Freude und Begeisterung Chorsingen gelebt wird. Lassen Sie sich bei einem Besuch von der Begeisterung zum Singen anstecken – und singen Sie mit uns. In der Zeit von 09:00 bis ca. 15:00 Uhr präsentieren sich Chöre aus Biesenthal\, Friedrichswalde\, Bernau\, Blumberg\, Schönwalde\, Wandlitz\, Finowfurt\, Ladeburg\, und Marienwerder. Alle Chöre freuen sich darauf\, Sie begrüßen zu dürfen. Für Verpflegung ist gesorgt und der Eintritt ist frei!
URL:https://chorverband-brb.de/event/15-barnimer-chorfest/
LOCATION:Audimax im OSZ\, Hans-Wittwer-Str. 7\, 16321 Bernau
ATTACH;FMTTYPE=image/jpeg:https://chorverband-brb.de/wp-content/uploads/2024/09/24Okt12_BarnimerChorfest.jpg
GEO:52.7065452;13.5436253
X-APPLE-STRUCTURED-LOCATION;VALUE=URI;X-ADDRESS=Audimax im OSZ Hans-Wittwer-Str. 7 16321 Bernau;X-APPLE-RADIUS=500;X-TITLE=Hans-Wittwer-Str. 7:geo:13.5436253,52.7065452
END:VEVENT
BEGIN:VEVENT
DTSTART;TZID=Europe/Berlin:20241012T160000
DTEND;TZID=Europe/Berlin:20241012T190000
DTSTAMP:20260424T162952
CREATED:20240318T094309Z
LAST-MODIFIED:20240617T110546Z
UID:10000199-1728748800-1728759600@chorverband-brb.de
SUMMARY:100-jähriges Chorjubiläum
DESCRIPTION:Der Stadtchor Guben  feiert am 12.10.2024 sein 100-jähriges Chorjubiläum. \n\n\n\nin der Klosterkirche Guben ab 16 Uhr
URL:https://chorverband-brb.de/event/100-jaehriges-chorjubilaeum/
CATEGORIES:Mitgliedschor
END:VEVENT
BEGIN:VEVENT
DTSTART;TZID=Europe/Berlin:20241013T150000
DTEND;TZID=Europe/Berlin:20241013T180000
DTSTAMP:20260424T162952
CREATED:20240930T115605Z
LAST-MODIFIED:20240930T115610Z
UID:10000276-1728831600-1728842400@chorverband-brb.de
SUMMARY:Jubiläumskonzert der Ketziner Havelklänge e.V.
DESCRIPTION:Herzliche Einladung zum Jubiläumskonzert unter der Leitung von Tobias Kielinger  \n\n\n\nDas Konzert findet um 15:00 Uhr in der Paretzer Scheune in Ketziner Ortsteil Paretz satt. \n\n\n\nAb 14:00 Uhr ist Einlass mit einem leckeren Kuchenbuffet
URL:https://chorverband-brb.de/event/jubilaeumskonzert-der-ketziner-havelklaenge-e-v/
LOCATION:Paretzer Scheune\, Werderdammstraße 1b\, 14669 Ketzin OT Paretz\, Germany
ATTACH;FMTTYPE=image/png:https://chorverband-brb.de/wp-content/uploads/2024/09/Jubilaeumskonzert-2024.png
GEO:52.4684821;12.874694
X-APPLE-STRUCTURED-LOCATION;VALUE=URI;X-ADDRESS=Paretzer Scheune Werderdammstraße 1b 14669 Ketzin OT Paretz Germany;X-APPLE-RADIUS=500;X-TITLE=Werderdammstraße 1b:geo:12.874694,52.4684821
END:VEVENT
BEGIN:VEVENT
DTSTART;TZID=Europe/Berlin:20241109T183000
DTEND;TZID=Europe/Berlin:20241109T200000
DTSTAMP:20260424T162952
CREATED:20240916T124141Z
LAST-MODIFIED:20241002T094717Z
UID:10000275-1731177000-1731182400@chorverband-brb.de
SUMMARY:35 Jahre Mauerfall - Chorprojekt
DESCRIPTION:Gemeinsames Chorprojekt des Gemischten Chores Cantare Schönwalde e.V. in Zusammenarbeit mit dem Chor Nordklang aus Berlin-Buch und dem Chor der Katholischen Kirche Berlin-Buch unter der Leitung von Roman Akuratnov. \n\n\n\nDer Eintritt ist frei\, Spenden sind sehr willkommen.
URL:https://chorverband-brb.de/event/35-jahre-mauerfall-chorprojekt/
LOCATION:Max-Delbrück-Communications Center im Campus Berlin-Buch\, Robert-Rössle-Straße 10\, Haus C 83\, Berlin\, 13125\, Germany
CATEGORIES:Mitgliedschor
ATTACH;FMTTYPE=image/jpeg:https://chorverband-brb.de/wp-content/uploads/2024/09/09.11.2024-scaled.jpg
GEO:52.6273189;13.5045725
X-APPLE-STRUCTURED-LOCATION;VALUE=URI;X-ADDRESS=Max-Delbrück-Communications Center im Campus Berlin-Buch Robert-Rössle-Straße 10 Haus C 83 Berlin 13125 Germany;X-APPLE-RADIUS=500;X-TITLE=Robert-Rössle-Straße 10\, Haus C 83:geo:13.5045725,52.6273189
END:VEVENT
BEGIN:VEVENT
DTSTART;TZID=Europe/Berlin:20241112T190000
DTEND;TZID=Europe/Berlin:20241112T203000
DTSTAMP:20260424T162952
CREATED:20240916T123311Z
LAST-MODIFIED:20241002T095233Z
UID:10000274-1731438000-1731443400@chorverband-brb.de
SUMMARY:35 Jahre Mauerfall - Chorprojekt
DESCRIPTION:Gemeinsames Chorprojekt des Gemischten Chores Cantare Schönwalde e.V. in Zusammenarbeit mit dem Chor Nordklang aus Berlin-Buch und dem Chor der Katholischen Kirche Berlin-Buch unter der Leitung von Roman Akuratnov. \n\n\n\nTickets können ab Ende September über die Plattform RESERVIX  gebucht werden.
URL:https://chorverband-brb.de/event/12067/
LOCATION:Theater im Delphi\, Gustav-Adolf-Str. 2\, Berlin\, 13086\, Germany
CATEGORIES:Mitgliedschor
ATTACH;FMTTYPE=image/jpeg:https://chorverband-brb.de/wp-content/uploads/2024/09/Plakat-Chorprojekt-2024-scaled.jpg
GEO:52.5518303;13.4313061
X-APPLE-STRUCTURED-LOCATION;VALUE=URI;X-ADDRESS=Theater im Delphi Gustav-Adolf-Str. 2 Berlin 13086 Germany;X-APPLE-RADIUS=500;X-TITLE=Gustav-Adolf-Str. 2:geo:13.4313061,52.5518303
END:VEVENT
BEGIN:VEVENT
DTSTART;TZID=Europe/Berlin:20241129T150000
DTEND;TZID=Europe/Berlin:20241129T170000
DTSTAMP:20260424T162952
CREATED:20240301T084605Z
LAST-MODIFIED:20240301T084607Z
UID:10000192-1732892400-1732899600@chorverband-brb.de
SUMMARY:Weihnachtlicher Markt
DESCRIPTION:Der Frauenchor Erkner e.V. gestaltet den weihnachtlichen Markt im Heimatmuseum Erkner
URL:https://chorverband-brb.de/event/weihnachtlicher-markt/
END:VEVENT
BEGIN:VEVENT
DTSTART;TZID=Europe/Berlin:20241130T110000
DTEND;TZID=Europe/Berlin:20241130T140000
DTSTAMP:20260424T162952
CREATED:20241011T075211Z
LAST-MODIFIED:20241011T075217Z
UID:10000283-1732964400-1732975200@chorverband-brb.de
SUMMARY:Adventsingen
DESCRIPTION:Die Bernauer Sänger laden herzlich zum Adventsingen in das EKZ Forum Bernau ein
URL:https://chorverband-brb.de/event/adventsingen/
LOCATION:EKZ Forum Bernau\, Börnicker Chaussee 1-2\, 16321 Bernau bei Berlin\, Börnicker Chaussee 1-2\, 16321 Bernau bei Berlin\, Germany
CATEGORIES:Mitgliedschor
GEO:52.676786;13.5962912
X-APPLE-STRUCTURED-LOCATION;VALUE=URI;X-ADDRESS=EKZ Forum Bernau Börnicker Chaussee 1-2 16321 Bernau bei Berlin Börnicker Chaussee 1-2 16321 Bernau bei Berlin Germany;X-APPLE-RADIUS=500;X-TITLE=Börnicker Chaussee 1-2:geo:13.5962912,52.676786
END:VEVENT
BEGIN:VEVENT
DTSTART;TZID=Europe/Berlin:20241201T143000
DTEND;TZID=Europe/Berlin:20241201T170000
DTSTAMP:20260424T162952
CREATED:20240301T083515Z
LAST-MODIFIED:20240301T083517Z
UID:10000189-1733063400-1733072400@chorverband-brb.de
SUMMARY:Adventskonzert
DESCRIPTION:Der Chor des Seniorenvereins PCK Schwedt e.V. lädt gemeinsam mit  Stadtchor Schwedt\, Nationalparkchor CriewenMännergesangsensemble der MKS in die Kirche „St Katharinen“ Schwedt
URL:https://chorverband-brb.de/event/adventskonzert/
END:VEVENT
BEGIN:VEVENT
DTSTART;TZID=Europe/Berlin:20241201T160000
DTEND;TZID=Europe/Berlin:20241201T180000
DTSTAMP:20260424T162952
CREATED:20241011T064625Z
LAST-MODIFIED:20241011T064759Z
UID:10000279-1733068800-1733076000@chorverband-brb.de
SUMMARY:Weihnachtskonzert
DESCRIPTION:Der Gemischte Chor Ludwigsfelde e.V. lädt herzlich zum Weihnachtskonzert ins Klubhaus Ludwigsfelde ein
URL:https://chorverband-brb.de/event/weihnachtskonzert-4/
LOCATION:Kulturhaus\, Theodor-Fontane-Straße 42\, 14974 Ludwigsfelde\, Theodor-Fontane-Straße 42\, 14974 Ludwigsfelde\, Germany
CATEGORIES:Mitgliedschor
GEO:52.3016828;13.2599372
X-APPLE-STRUCTURED-LOCATION;VALUE=URI;X-ADDRESS=Kulturhaus Theodor-Fontane-Straße 42 14974 Ludwigsfelde Theodor-Fontane-Straße 42 14974 Ludwigsfelde Germany;X-APPLE-RADIUS=500;X-TITLE=Theodor-Fontane-Straße 42:geo:13.2599372,52.3016828
END:VEVENT
BEGIN:VEVENT
DTSTART;TZID=Europe/Berlin:20241201T170000
DTEND;TZID=Europe/Berlin:20241201T190000
DTSTAMP:20260424T162952
CREATED:20240301T083806Z
LAST-MODIFIED:20241118T075832Z
UID:10000190-1733072400-1733079600@chorverband-brb.de
SUMMARY:Adventskonzert
DESCRIPTION:Der Chor des Seniorenvereins PCK Schwedt e.V. lädt gemeinsam mit Stadtchor Schwedt\, Nationalparkchor Criewen Männergesangsensemble der MKS in die Kirche „St Katharinen“ Schwedt
URL:https://chorverband-brb.de/event/adventskonzert-2/
CATEGORIES:Mitgliedschor
END:VEVENT
BEGIN:VEVENT
DTSTART;TZID=Europe/Berlin:20241201T190000
DTEND;TZID=Europe/Berlin:20241201T210000
DTSTAMP:20260424T162952
CREATED:20240301T085452Z
LAST-MODIFIED:20240301T085454Z
UID:10000194-1733079600-1733086800@chorverband-brb.de
SUMMARY:Adventskonzert
DESCRIPTION:Der Frauenchor „Cantabile“ Müllrose“ e.V.\, das  Orchester der Frankfurter Musikfreunde und Organistin Olesja Pahl laden ein in die Ev. Kirche Müllrose
URL:https://chorverband-brb.de/event/adventskonzert-4/
END:VEVENT
BEGIN:VEVENT
DTSTART;TZID=Europe/Berlin:20241206T190000
DTEND;TZID=Europe/Berlin:20241206T210000
DTSTAMP:20260424T162952
CREATED:20240403T090516Z
LAST-MODIFIED:20240403T090517Z
UID:10000209-1733511600-1733518800@chorverband-brb.de
SUMMARY:Singen unterm Sternenzelt
DESCRIPTION:In der tollen Atmosphäre des Planetariums in Herzberg/Elster gestaltet der Männergesangverein 1836 Herzberg e.V. ein stimmungsvolles Programm
URL:https://chorverband-brb.de/event/singen-unterm-sternenzelt/
LOCATION:Planetarium Herzberg\, Leipziger Str. 5\, Herzberg/Elster\, Deutschland
END:VEVENT
BEGIN:VEVENT
DTSTART;TZID=Europe/Berlin:20241207T150000
DTEND;TZID=Europe/Berlin:20241207T170000
DTSTAMP:20260424T162952
CREATED:20241101T074644Z
LAST-MODIFIED:20241101T074753Z
UID:10000293-1733583600-1733590800@chorverband-brb.de
SUMMARY:Adventskonzert
DESCRIPTION:Der Gemischte Chor „Salto Tonale“ e.V. aus dem Havelland lädt herzlich zum Adventskonzert ein.Das Konzert findet in der Dorfkirche Landin statt. Beginn ist um 15:00 Uhr
URL:https://chorverband-brb.de/event/adventskonzert-7/
LOCATION:Steinstraße 8A\, 14715 Kotzen\, Steinstraße 8A\, 14715 Kotzen\, Germany
CATEGORIES:Mitgliedschor
GEO:52.6629313;12.5363813
X-APPLE-STRUCTURED-LOCATION;VALUE=URI;X-ADDRESS=Steinstraße 8A 14715 Kotzen Steinstraße 8A 14715 Kotzen Germany;X-APPLE-RADIUS=500;X-TITLE=Steinstraße 8A:geo:12.5363813,52.6629313
END:VEVENT
BEGIN:VEVENT
DTSTART;TZID=Europe/Berlin:20241207T153000
DTEND;TZID=Europe/Berlin:20241207T170000
DTSTAMP:20260424T162952
CREATED:20240301T085734Z
LAST-MODIFIED:20240301T085736Z
UID:10000195-1733585400-1733590800@chorverband-brb.de
SUMMARY:Adventskaffeeklatsch
DESCRIPTION:Der Frauenchor „Cantabile“ Müllrose“ e.V. lädt ein zum Adventskaffeeklatsch im Schützenhaus Müllrose
URL:https://chorverband-brb.de/event/adventskaffeeklatsch/
END:VEVENT
BEGIN:VEVENT
DTSTART;TZID=Europe/Berlin:20241207T160000
DTEND;TZID=Europe/Berlin:20241207T173000
DTSTAMP:20260424T162952
CREATED:20241121T091852Z
LAST-MODIFIED:20241121T091854Z
UID:10000306-1733587200-1733592600@chorverband-brb.de
SUMMARY:Weihnachten in der Patronatskirche
DESCRIPTION:Der Gemischte Chor und das Orchester „Cantabile“ der Chorgemeinschaft Eichwalde e.v. laden ein zum Adventskonzert in der Patronatskirche\, Dorfstraße in 15732 Schulzendorf. Der Eintritt ist frei. Um Spenden für die Restaurierung der Patronatskirche wird gebeten.
URL:https://chorverband-brb.de/event/weihnachten-in-der-patronatskirche/
END:VEVENT
BEGIN:VEVENT
DTSTART;TZID=Europe/Berlin:20241207T170000
DTEND;TZID=Europe/Berlin:20241207T190000
DTSTAMP:20260424T162952
CREATED:20241011T065307Z
LAST-MODIFIED:20241011T065350Z
UID:10000280-1733590800-1733598000@chorverband-brb.de
SUMMARY:Weihnachtskonzert
DESCRIPTION:Der Gemischte Chor Ludwigsfelde e.V. lädt herzlich zum Weihnachtskonzert in die  Katholische Kirche Ludwigsfelde ein
URL:https://chorverband-brb.de/event/weihnachtskonzert-5/
LOCATION:Siethener Str. 11\, 14974 Ludwigsfelde\, Siethener Str. 11\, 14974 Ludwigsfelde\, Germany
CATEGORIES:Mitgliedschor
GEO:52.2897869;13.2569635
X-APPLE-STRUCTURED-LOCATION;VALUE=URI;X-ADDRESS=Siethener Str. 11 14974 Ludwigsfelde Siethener Str. 11 14974 Ludwigsfelde Germany;X-APPLE-RADIUS=500;X-TITLE=Siethener Str. 11:geo:13.2569635,52.2897869
END:VEVENT
BEGIN:VEVENT
DTSTART;TZID=Europe/Berlin:20241207T170000
DTEND;TZID=Europe/Berlin:20241207T190000
DTSTAMP:20260424T162952
CREATED:20241011T071215Z
LAST-MODIFIED:20241011T071217Z
UID:10000281-1733590800-1733598000@chorverband-brb.de
SUMMARY:Konzert der Amazing Voices
DESCRIPTION:Das Konzert findet im Brauhaus Himmelpfort statt
URL:https://chorverband-brb.de/event/konzert-der-amazing-voices/
LOCATION:Brauhaus\, Klosterstraße 22\,  16798 Fürstenberg / Havel OT Himmelpfort\, Klosterstraße 22\, 16798 Fürstenberg / Havel OT Himmelpfort\, Germany
CATEGORIES:Mitgliedschor
GEO:53.1771866;13.2292694
X-APPLE-STRUCTURED-LOCATION;VALUE=URI;X-ADDRESS=Brauhaus Klosterstraße 22  16798 Fürstenberg / Havel OT Himmelpfort Klosterstraße 22 16798 Fürstenberg / Havel OT Himmelpfort Germany;X-APPLE-RADIUS=500;X-TITLE=Klosterstraße 22:geo:13.2292694,53.1771866
END:VEVENT
BEGIN:VEVENT
DTSTART;TZID=Europe/Berlin:20241208T133000
DTEND;TZID=Europe/Berlin:20241208T150000
DTSTAMP:20260424T162952
CREATED:20241021T063245Z
LAST-MODIFIED:20241021T063248Z
UID:10000287-1733664600-1733670000@chorverband-brb.de
SUMMARY:Weihnachtskonzert des Handwerker Männerchores Bad Freienwalde e.V.
DESCRIPTION:Der Handwerker Männerchor Bad Freienwalde e.V. singt am 08. Dezember 2024 \, um 13:30 Uhr auf dem dem Weihnachtsmarkt der Fachklinik und Moorbad Bad Freienwalde und lädt Sie herzlich ein\, sich mit weihnachtlichen Liedern in die Adventszeit einzustimmen.
URL:https://chorverband-brb.de/event/weihnachtskonzert-des-handwerker-maennerchores-bad-freienwalde-e-v/
LOCATION:Fachklinik und Moorbad Bad Freienwalde GmbH\, Gesundbrunnenstraße 33\, 16259 Bad Freienwalde\, Gesundbrunnenstraße 33\, 16259 Bad Freienwalde\, Germany
CATEGORIES:Mitgliedschor
GEO:52.7750486;14.0211483
X-APPLE-STRUCTURED-LOCATION;VALUE=URI;X-ADDRESS=Fachklinik und Moorbad Bad Freienwalde GmbH Gesundbrunnenstraße 33 16259 Bad Freienwalde Gesundbrunnenstraße 33 16259 Bad Freienwalde Germany;X-APPLE-RADIUS=500;X-TITLE=Gesundbrunnenstraße 33:geo:14.0211483,52.7750486
END:VEVENT
BEGIN:VEVENT
DTSTART;TZID=Europe/Berlin:20241208T150000
DTEND;TZID=Europe/Berlin:20241208T170000
DTSTAMP:20260424T162952
CREATED:20240301T084126Z
LAST-MODIFIED:20240301T084128Z
UID:10000191-1733670000-1733677200@chorverband-brb.de
SUMMARY:Adventskonzert
DESCRIPTION:Der Chor des Seniorenvereins PCK Schwedt e.V.  und der  Stadtchor Schwedt e.V. laden herzlich ein in die Kirche „Mariä Himmelfahrt“
URL:https://chorverband-brb.de/event/adventskonzert-3/
END:VEVENT
BEGIN:VEVENT
DTSTART;TZID=Europe/Berlin:20241208T150000
DTEND;TZID=Europe/Berlin:20241208T170000
DTSTAMP:20260424T162952
CREATED:20241011T071857Z
LAST-MODIFIED:20241011T071900Z
UID:10000282-1733670000-1733677200@chorverband-brb.de
SUMMARY:Konzert der Amazing Voices
DESCRIPTION:Das Konzert findet in der Evangelischen Kirche Birkenwerda statt
URL:https://chorverband-brb.de/event/konzert-der-amazing-voices-2/
LOCATION:Ev. Kirche\, Hauptstraße\, 16547 Birkenwerder\, Hauptstraße\, 16547 Birkenwerder\, Germany
CATEGORIES:Mitgliedschor
GEO:52.6949667;13.2763052
X-APPLE-STRUCTURED-LOCATION;VALUE=URI;X-ADDRESS=Ev. Kirche Hauptstraße 16547 Birkenwerder Hauptstraße 16547 Birkenwerder Germany;X-APPLE-RADIUS=500;X-TITLE=Hauptstraße:geo:13.2763052,52.6949667
END:VEVENT
BEGIN:VEVENT
DTSTART;TZID=Europe/Berlin:20241208T150000
DTEND;TZID=Europe/Berlin:20241208T170000
DTSTAMP:20260424T162952
CREATED:20241108T091536Z
LAST-MODIFIED:20241108T091542Z
UID:10000297-1733670000-1733677200@chorverband-brb.de
SUMMARY:Kling\, Glöckchen
DESCRIPTION:Die „Vocalinos“ der Chorgemeinschaft Eichwalde möchten in die Weihnachtszeit einstimmen.
URL:https://chorverband-brb.de/event/kling-gloeckchen/
CATEGORIES:Mitgliedschor
END:VEVENT
BEGIN:VEVENT
DTSTART;TZID=Europe/Berlin:20241208T150000
DTEND;TZID=Europe/Berlin:20241208T170000
DTSTAMP:20260424T162952
CREATED:20241120T074019Z
LAST-MODIFIED:20241120T074351Z
UID:10000303-1733670000-1733677200@chorverband-brb.de
SUMMARY:„Süßer die Glocken nie klingen“
DESCRIPTION:Der Gemischte Chor Mahlow 1912 e.V. erfreut Sie mit einem Strauß schöner Weihnachtlieder unter der Leitung von Anja Heuer im Vereinshaus in der Immanuel-Kant-Str. 3-5 in 15931 Mahlow \n\n\n\nBeginn: 15:00 Uhr
URL:https://chorverband-brb.de/event/suesser-die-glocken-nie-klingen/
LOCATION:Immanuel-Kant-Straße 3-5\, 15831 Blankenfelde-Mahlow\, Immanuel-Kant-Straße 3-5\, 15831 Blankenfelde-Mahlow\, Germany
GEO:52.3587245;13.4191238
X-APPLE-STRUCTURED-LOCATION;VALUE=URI;X-ADDRESS=Immanuel-Kant-Straße 3-5 15831 Blankenfelde-Mahlow Immanuel-Kant-Straße 3-5 15831 Blankenfelde-Mahlow Germany;X-APPLE-RADIUS=500;X-TITLE=Immanuel-Kant-Straße 3-5:geo:13.4191238,52.3587245
END:VEVENT
BEGIN:VEVENT
DTSTART;TZID=Europe/Berlin:20241208T150000
DTEND;TZID=Europe/Berlin:20241208T170000
DTSTAMP:20260424T162952
CREATED:20241122T073734Z
LAST-MODIFIED:20241122T073736Z
UID:10000307-1733670000-1733677200@chorverband-brb.de
SUMMARY:Weihnachtskonzert der Ketziner Havelklänge
DESCRIPTION:Beschwingt in die Weihnachtzeit. Lassen Sie sich einstimmen und genießen das Weihnachtskonzert der KETZINER HAVELKLÄNGE e.V  unter der musikalischen Leitung von Tobias Kielinger. Am 08. Dezember 2024\, um 15:00 Uhr im Schlosssaal Paretz –  Parkring 1\,  14669 Ketzin OT Paretz. \n\n\n\nDer Eintritt ist frei – um Spenden wird gebeten.
URL:https://chorverband-brb.de/event/weihnachtskonzert-der-ketziner-havelklaenge/
LOCATION:Schlosssaal Paretz\,  Parkring 1\, 14669 Ketzin OT Paretz\, Parkring 1\, 14669 Ketzin OT Paretz\, Germany
CATEGORIES:Mitgliedschor
ATTACH;FMTTYPE=image/jpeg:https://chorverband-brb.de/wp-content/uploads/2024/11/2024_Weihnachtskonzert.jpg
GEO:52.4683865;12.8769011
X-APPLE-STRUCTURED-LOCATION;VALUE=URI;X-ADDRESS=Schlosssaal Paretz  Parkring 1 14669 Ketzin OT Paretz Parkring 1 14669 Ketzin OT Paretz Germany;X-APPLE-RADIUS=500;X-TITLE=Parkring 1:geo:12.8769011,52.4683865
END:VEVENT
BEGIN:VEVENT
DTSTART;TZID=Europe/Berlin:20241208T160000
DTEND;TZID=Europe/Berlin:20241208T180000
DTSTAMP:20260424T162952
CREATED:20240228T094213Z
LAST-MODIFIED:20240228T094215Z
UID:10000180-1733673600-1733680800@chorverband-brb.de
SUMMARY:Weihnachtskonzert
DESCRIPTION:des „Audite“ Chor d. Vereins Schöneicher Heimatfreunde e.V. in Schöneiche
URL:https://chorverband-brb.de/event/weihnachtskonzert/
END:VEVENT
BEGIN:VEVENT
DTSTART;TZID=Europe/Berlin:20241208T160000
DTEND;TZID=Europe/Berlin:20241208T180000
DTSTAMP:20260424T162952
CREATED:20241011T080639Z
LAST-MODIFIED:20241011T080750Z
UID:10000284-1733673600-1733680800@chorverband-brb.de
SUMMARY:Großes Adventskonzert
DESCRIPTION:Die Bernauer Sänger und der Chor „Praechorianer“ des Paulus-Praetorius-Gymnasiums Bernau gestalten gemeinsam das große Adventskonzert im Audimax Bernau
URL:https://chorverband-brb.de/event/grosses-adventskonzert/
LOCATION:Audimax Bernau\, Hans-Wittwer-Straße 1\, 16321 Bernau bei Berlin\, Hans-Wittwer-Straße 1\, 16321 Bernau bei Berlin\, Germany
CATEGORIES:Mitgliedschor
GEO:52.7061591;13.5427241
X-APPLE-STRUCTURED-LOCATION;VALUE=URI;X-ADDRESS=Audimax Bernau Hans-Wittwer-Straße 1 16321 Bernau bei Berlin Hans-Wittwer-Straße 1 16321 Bernau bei Berlin Germany;X-APPLE-RADIUS=500;X-TITLE=Hans-Wittwer-Straße 1:geo:13.5427241,52.7061591
END:VEVENT
BEGIN:VEVENT
DTSTART;TZID=Europe/Berlin:20241208T160000
DTEND;TZID=Europe/Berlin:20241208T180000
DTSTAMP:20260424T162952
CREATED:20241021T063435Z
LAST-MODIFIED:20241021T065539Z
UID:10000288-1733673600-1733680800@chorverband-brb.de
SUMMARY:Weihnachtskonzert des Handwerker Männerchores Bad Freienwalde e.V.
DESCRIPTION:Das Konzert findet in der neu restaurierten Ev. Marienkirche in Wriezen statt
URL:https://chorverband-brb.de/event/weihnachtskonzert-des-handwerker-maennerchores-bad-freienwalde-e-v-2/
LOCATION:Evangelische Marienkirche Wriezen\, Evangelische Marienkirche Wriezen\, 16269 Wriezen
CATEGORIES:Mitgliedschor
GEO:52.7167469;14.1356733
X-APPLE-STRUCTURED-LOCATION;VALUE=URI;X-ADDRESS=Evangelische Marienkirche Wriezen Evangelische Marienkirche Wriezen 16269 Wriezen;X-APPLE-RADIUS=500;X-TITLE=Evangelische Marienkirche Wriezen:geo:14.1356733,52.7167469
END:VEVENT
BEGIN:VEVENT
DTSTART;TZID=Europe/Berlin:20241208T160000
DTEND;TZID=Europe/Berlin:20241208T180000
DTSTAMP:20260424T162952
CREATED:20241120T072532Z
LAST-MODIFIED:20241120T072628Z
UID:10000302-1733673600-1733680800@chorverband-brb.de
SUMMARY:Adventskonzert des con-brio-Chor Fürstenwalde e.V
DESCRIPTION:Der con-brio-Chor Fürstenwalde e.V. stimmt Sie mit schwungvollen Liedern in die Adventszeit ein. Das Konzert findet im  Festsaal des Alten Rathauses Fürstenwalde\, statt. \n\n\n\nAm Markt 1\, 15517 Fürstenwalde \n\n\n\nBeginn: 16:00 UhrEinlass: 15:30 Uhr
URL:https://chorverband-brb.de/event/adventskonzert-8/
LOCATION:Am Markt 1\, 15517 Fürstenwalde\, Am Markt 1\, 15517 Fürstenwalde\, Germany
CATEGORIES:Mitgliedschor
GEO:52.3585019;14.063467
X-APPLE-STRUCTURED-LOCATION;VALUE=URI;X-ADDRESS=Am Markt 1 15517 Fürstenwalde Am Markt 1 15517 Fürstenwalde Germany;X-APPLE-RADIUS=500;X-TITLE=Am Markt 1:geo:14.063467,52.3585019
END:VEVENT
BEGIN:VEVENT
DTSTART;TZID=Europe/Berlin:20241208T160000
DTEND;TZID=Europe/Berlin:20241208T200000
DTSTAMP:20260424T162952
CREATED:20240403T091030Z
LAST-MODIFIED:20241021T064422Z
UID:10000210-1733673600-1733688000@chorverband-brb.de
SUMMARY:Adventskonzert
DESCRIPTION:Der Männergesangverein 1836 Herzberg e.V. und die Chorvereinigung pro musica e.V. Herzberg laden herzlich zum Adventkonzert in die Kirche St. Marien in Herzberg/Elster ein
URL:https://chorverband-brb.de/event/adventskonzert-5/
LOCATION:Kirche Sankt Marien\, Kirchstr. 14\, Herzberg/Elster\, Deutschland
CATEGORIES:Mitgliedschor
END:VEVENT
END:VCALENDAR