BEGIN:VCALENDAR
VERSION:2.0
PRODID:-//Brandenburgischer Chorverband e.V. - ECPv6.15.20//NONSGML v1.0//EN
CALSCALE:GREGORIAN
METHOD:PUBLISH
X-WR-CALNAME:Brandenburgischer Chorverband e.V.
X-ORIGINAL-URL:https://chorverband-brb.de
X-WR-CALDESC:Veranstaltungen für Brandenburgischer Chorverband e.V.
REFRESH-INTERVAL;VALUE=DURATION:PT1H
X-Robots-Tag:noindex
X-PUBLISHED-TTL:PT1H
BEGIN:VTIMEZONE
TZID:Europe/Berlin
BEGIN:DAYLIGHT
TZOFFSETFROM:+0100
TZOFFSETTO:+0200
TZNAME:CEST
DTSTART:20230326T010000
END:DAYLIGHT
BEGIN:STANDARD
TZOFFSETFROM:+0200
TZOFFSETTO:+0100
TZNAME:CET
DTSTART:20231029T010000
END:STANDARD
BEGIN:DAYLIGHT
TZOFFSETFROM:+0100
TZOFFSETTO:+0200
TZNAME:CEST
DTSTART:20240331T010000
END:DAYLIGHT
BEGIN:STANDARD
TZOFFSETFROM:+0200
TZOFFSETTO:+0100
TZNAME:CET
DTSTART:20241027T010000
END:STANDARD
BEGIN:DAYLIGHT
TZOFFSETFROM:+0100
TZOFFSETTO:+0200
TZNAME:CEST
DTSTART:20250330T010000
END:DAYLIGHT
BEGIN:STANDARD
TZOFFSETFROM:+0200
TZOFFSETTO:+0100
TZNAME:CET
DTSTART:20251026T010000
END:STANDARD
END:VTIMEZONE
BEGIN:VEVENT
DTSTART;TZID=Europe/Berlin:20240816T190000
DTEND;TZID=Europe/Berlin:20240816T220000
DTSTAMP:20260424T180415
CREATED:20240708T094227Z
LAST-MODIFIED:20240708T094859Z
UID:10000259-1723834800-1723845600@chorverband-brb.de
SUMMARY:150 Jahre Männerchor Löwenberg e.V.
DESCRIPTION:Anlässlich dieses Jubiläums lädt der Männerchor Löwenberg e.V. zum Festwochenende am 16.08.  und 17.08.2024 ein \n\n\n\n\n\nAm 16.08.2024: Festsitzung im Bürgerhaus Löwenberg (am Waldstadion) \n\n\n\nEinlass: 18:00 UhrBeginn: 19:00 Uhr \n\n\n\nUm Teilnahmemeldung wird gebeten
URL:https://chorverband-brb.de/event/150-jahre-maennerchor-loewenberg-e-v-2/
CATEGORIES:Mitgliedschor
ATTACH;FMTTYPE=image/png:https://chorverband-brb.de/wp-content/uploads/2024/07/MC-Loewenberg.png
END:VEVENT
BEGIN:VEVENT
DTSTART;TZID=Europe/Berlin:20240817T190000
DTEND;TZID=Europe/Berlin:20240817T220000
DTSTAMP:20260424T180415
CREATED:20240708T093841Z
LAST-MODIFIED:20240708T094746Z
UID:10000261-1723921200-1723932000@chorverband-brb.de
SUMMARY:150 Jahre Männerchor Löwenberg e.V.
DESCRIPTION:Anlässlich dieses Jubiläums lädt der Männerchor Löwenberg e.V. zum Festwochenende ein \n\n\n\n\n\nAm 17.08.2024: Buntes Festprogramm der teilnehmenden Chöre im Schlosshof zu Löwenberg \n\n\n\nEinlass: 18:00 UhrBeginn: 19:00 Uhr \n\n\n\nUm Teilnahmemeldung wird gebeten
URL:https://chorverband-brb.de/event/150-jahre-maennerchor-loewenberg-e-v/
CATEGORIES:Mitgliedschor
ATTACH;FMTTYPE=image/png:https://chorverband-brb.de/wp-content/uploads/2024/07/MC-Loewenberg.png
END:VEVENT
BEGIN:VEVENT
DTSTART;TZID=Europe/Berlin:20240825T150000
DTEND;TZID=Europe/Berlin:20240825T170000
DTSTAMP:20260424T180415
CREATED:20240114T170402Z
LAST-MODIFIED:20240728T125557Z
UID:10000161-1724598000-1724605200@chorverband-brb.de
SUMMARY:Kaffee-&Kuchenkonzert
DESCRIPTION:Das Orchester der Chorgemeinschaft Eichwalde lädt ein\, bei Kaffee und Kuchen ihren Klängen zu lauschen.
URL:https://chorverband-brb.de/event/kaffee-kuchenkonzert/
LOCATION:Patronatskirche\, Schulzendorf\, Dorfstr. 13\, Schulzendorf\, 15732\, Deutschland
CATEGORIES:Mitgliedschor
ATTACH;FMTTYPE=image/jpeg:https://chorverband-brb.de/wp-content/uploads/2024/01/2023-09-03-Instrumentalgruppe-in-der-Patronatskirche.jpg
GEO:52.3592744;13.5728756
X-APPLE-STRUCTURED-LOCATION;VALUE=URI;X-ADDRESS=Patronatskirche Schulzendorf Dorfstr. 13 Schulzendorf 15732 Deutschland;X-APPLE-RADIUS=500;X-TITLE=Dorfstr. 13:geo:13.5728756,52.3592744
END:VEVENT
BEGIN:VEVENT
DTSTART;TZID=Europe/Berlin:20240827T080000
DTEND;TZID=Europe/Berlin:20240827T170000
DTSTAMP:20260424T180415
CREATED:20240827T093310Z
LAST-MODIFIED:20240827T093312Z
UID:10000269-1724745600-1724778000@chorverband-brb.de
SUMMARY:Offene Chorprobe
DESCRIPTION:Der Cantus Vitalis Eberswalde e.Vlädt alle Interessierten zu einer gemeinsamen Chorprobe ein. Wir möchten unsere Chorarbeit vorstellen und gemeinsam singen und Spaß haben.Die Proben finden am 10.09.2024 und 17.09.2024 jeweils um 18.45 Uhr bis 21.15 Uhr im Evangelischen Gemeindezentrum in der Eisenbahnstraße 84 in Eberswalde statt.
URL:https://chorverband-brb.de/event/offene-chorprobe-2/
END:VEVENT
END:VCALENDAR