BEGIN:VCALENDAR
VERSION:2.0
PRODID:-//Brandenburgischer Chorverband e.V. - ECPv6.15.20//NONSGML v1.0//EN
CALSCALE:GREGORIAN
METHOD:PUBLISH
X-WR-CALNAME:Brandenburgischer Chorverband e.V.
X-ORIGINAL-URL:https://chorverband-brb.de
X-WR-CALDESC:Veranstaltungen für Brandenburgischer Chorverband e.V.
REFRESH-INTERVAL;VALUE=DURATION:PT1H
X-Robots-Tag:noindex
X-PUBLISHED-TTL:PT1H
BEGIN:VTIMEZONE
TZID:Europe/Berlin
BEGIN:DAYLIGHT
TZOFFSETFROM:+0100
TZOFFSETTO:+0200
TZNAME:CEST
DTSTART:20250330T010000
END:DAYLIGHT
BEGIN:STANDARD
TZOFFSETFROM:+0200
TZOFFSETTO:+0100
TZNAME:CET
DTSTART:20251026T010000
END:STANDARD
BEGIN:DAYLIGHT
TZOFFSETFROM:+0100
TZOFFSETTO:+0200
TZNAME:CEST
DTSTART:20260329T010000
END:DAYLIGHT
BEGIN:STANDARD
TZOFFSETFROM:+0200
TZOFFSETTO:+0100
TZNAME:CET
DTSTART:20261025T010000
END:STANDARD
BEGIN:DAYLIGHT
TZOFFSETFROM:+0100
TZOFFSETTO:+0200
TZNAME:CEST
DTSTART:20270328T010000
END:DAYLIGHT
BEGIN:STANDARD
TZOFFSETFROM:+0200
TZOFFSETTO:+0100
TZNAME:CET
DTSTART:20271031T010000
END:STANDARD
END:VTIMEZONE
BEGIN:VEVENT
DTSTART;TZID=Europe/Berlin:20260425T150000
DTEND;TZID=Europe/Berlin:20260425T170000
DTSTAMP:20260425T164255
CREATED:20260310T081547Z
LAST-MODIFIED:20260310T081547Z
UID:10000520-1777129200-1777136400@chorverband-brb.de
SUMMARY:Frühlingskonzert
DESCRIPTION:
URL:https://chorverband-brb.de/event/fruehlingskonzert-10/
LOCATION:Evangelisches Gemeindezentrum Eisenhüttenstadt\, Robert-Koch-Str. 37\, Eisenhüttenstadt\, 15890
END:VEVENT
BEGIN:VEVENT
DTSTART;TZID=Europe/Berlin:20260905T140000
DTEND;TZID=Europe/Berlin:20260905T160000
DTSTAMP:20260425T164255
CREATED:20260310T081744Z
LAST-MODIFIED:20260310T081745Z
UID:10000521-1788616800-1788624000@chorverband-brb.de
SUMMARY:Sängerfest
DESCRIPTION:
URL:https://chorverband-brb.de/event/saengerfest/
LOCATION:Fürstenberger Gesellschaftshaus\, Wilhelmstr. 37\, Eisenhüttenstadt\, 15890
END:VEVENT
BEGIN:VEVENT
DTSTART;TZID=Europe/Berlin:20261017T140000
DTEND;TZID=Europe/Berlin:20261017T160000
DTSTAMP:20260425T164255
CREATED:20260310T081923Z
LAST-MODIFIED:20260310T081924Z
UID:10000522-1792245600-1792252800@chorverband-brb.de
SUMMARY:Herbstkonzert
DESCRIPTION:
URL:https://chorverband-brb.de/event/herbstkonzert-4/
LOCATION:Evangelisches Gemeindezentrum\, Kirchstr. 9\, Ziltendorf\, 15295
END:VEVENT
BEGIN:VEVENT
DTSTART;TZID=Europe/Berlin:20261128T150000
DTEND;TZID=Europe/Berlin:20261128T170000
DTSTAMP:20260425T164255
CREATED:20260310T082015Z
LAST-MODIFIED:20260310T082015Z
UID:10000523-1795878000-1795885200@chorverband-brb.de
SUMMARY:Adventskonzert
DESCRIPTION:
URL:https://chorverband-brb.de/event/adventskonzert-15/
LOCATION:Evangelisches Gemeindezentrum Eisenhüttenstadt\, Robert-Koch-Str. 37\, Eisenhüttenstadt\, 15890
END:VEVENT
BEGIN:VEVENT
DTSTART;TZID=Europe/Berlin:20261220T110000
DTEND;TZID=Europe/Berlin:20261220T130000
DTSTAMP:20260425T164255
CREATED:20260310T082158Z
LAST-MODIFIED:20260310T082159Z
UID:10000524-1797764400-1797771600@chorverband-brb.de
SUMMARY:Matinee
DESCRIPTION:
URL:https://chorverband-brb.de/event/matinee/
LOCATION:Kleist Forum\, Platz der Einheit 1\, Frankfurt/Oder\, 15230
END:VEVENT
END:VCALENDAR