BEGIN:VCALENDAR
VERSION:2.0
PRODID:-//Brandenburgischer Chorverband e.V. - ECPv6.15.20//NONSGML v1.0//EN
CALSCALE:GREGORIAN
METHOD:PUBLISH
X-ORIGINAL-URL:https://chorverband-brb.de
X-WR-CALDESC:Veranstaltungen für Brandenburgischer Chorverband e.V.
REFRESH-INTERVAL;VALUE=DURATION:PT1H
X-Robots-Tag:noindex
X-PUBLISHED-TTL:PT1H
BEGIN:VTIMEZONE
TZID:Europe/Berlin
BEGIN:DAYLIGHT
TZOFFSETFROM:+0100
TZOFFSETTO:+0200
TZNAME:CEST
DTSTART:20250330T010000
END:DAYLIGHT
BEGIN:STANDARD
TZOFFSETFROM:+0200
TZOFFSETTO:+0100
TZNAME:CET
DTSTART:20251026T010000
END:STANDARD
BEGIN:DAYLIGHT
TZOFFSETFROM:+0100
TZOFFSETTO:+0200
TZNAME:CEST
DTSTART:20260329T010000
END:DAYLIGHT
BEGIN:STANDARD
TZOFFSETFROM:+0200
TZOFFSETTO:+0100
TZNAME:CET
DTSTART:20261025T010000
END:STANDARD
BEGIN:DAYLIGHT
TZOFFSETFROM:+0100
TZOFFSETTO:+0200
TZNAME:CEST
DTSTART:20270328T010000
END:DAYLIGHT
BEGIN:STANDARD
TZOFFSETFROM:+0200
TZOFFSETTO:+0100
TZNAME:CET
DTSTART:20271031T010000
END:STANDARD
END:VTIMEZONE
BEGIN:VEVENT
DTSTART;TZID=Europe/Berlin:20261220T110000
DTEND;TZID=Europe/Berlin:20261220T130000
DTSTAMP:20260425T194513
CREATED:20260310T082158Z
LAST-MODIFIED:20260310T082159Z
UID:10000524-1797764400-1797771600@chorverband-brb.de
SUMMARY:Matinee
DESCRIPTION:
URL:https://chorverband-brb.de/event/matinee/
LOCATION:Kleist Forum\, Platz der Einheit 1\, Frankfurt/Oder\, 15230
END:VEVENT
END:VCALENDAR